BEGIN:VCALENDAR
VERSION:2.0
PRODID:-//jEvents 2.0 for Joomla//EN
CALSCALE:GREGORIAN
METHOD:PUBLISH
BEGIN:VEVENT
UID:e716ab0e5ae74b822ced582a2fd961b2
CATEGORIES:Social
CREATED:20171017T190911
SUMMARY:9S Halloween Social & MegaBoss
DESCRIPTION:We need a 2017 9S Halloween screenshot of us all together - so definitely a
  great reason for a social event. \nAlso.. we have mega boss(es) that need 
 spawning!\n \nCome and join me and Durendal in The Horned God at 18:00GMT, 
 we will head over to Agartha at around 18:45 for boss fighting goodness wit
 h Mellified! \n \nSign up in this thread if you want to come along for the 
 boss killing : https://www.nine-swords.com/forums/18/10870 (forums/18/10870
 )\n
X-ALT-DESC;FMTTYPE=text/html:<p>We need a 2017 9S Halloween screenshot of us all together - so definitel
 y a great reason for a social event. </p><p>Also.. we have mega boss(es) th
 at need spawning!</p><p> </p><p>Come and join me and Durendal in The Horned
  God at 18:00GMT, we will head over to Agartha at around 18:45 for boss fig
 hting goodness with Mellified! </p><p> </p><p>Sign up in this thread if you
  want to come along for the boss killing : <a href="forums/18/10870">https:
 //www.nine-swords.com/forums/18/10870</a></p>
DTSTAMP:20260422T210427
DTSTART;TZID=UTC:20171022T180000
DTEND;TZID=UTC:20171022T190000
SEQUENCE:0
TRANSP:OPAQUE
END:VEVENT
END:VCALENDAR